BEGIN:VCALENDAR
VERSION:2.0
PRODID:-//NW Ohio District Nazarene - ECPv6.2.2.1//NONSGML v1.0//EN
CALSCALE:GREGORIAN
METHOD:PUBLISH
X-ORIGINAL-URL:http://www.nwonaz.org
X-WR-CALDESC:Events for NW Ohio District Nazarene
REFRESH-INTERVAL;VALUE=DURATION:PT1H
X-Robots-Tag:noindex
X-PUBLISHED-TTL:PT1H
BEGIN:VTIMEZONE
TZID:America/New_York
BEGIN:DAYLIGHT
TZOFFSETFROM:-0500
TZOFFSETTO:-0400
TZNAME:EDT
DTSTART:20210314T070000
END:DAYLIGHT
BEGIN:STANDARD
TZOFFSETFROM:-0400
TZOFFSETTO:-0500
TZNAME:EST
DTSTART:20211107T060000
END:STANDARD
END:VTIMEZONE
BEGIN:VEVENT
DTSTART;VALUE=DATE:20211114
DTEND;VALUE=DATE:20211115
DTSTAMP:20260421T052707
CREATED:20210916T164050Z
LAST-MODIFIED:20211129T200034Z
UID:241431-1636848000-1636934399@www.nwonaz.org
SUMMARY:Int. World Day of Prayer for the Persecuted Church
DESCRIPTION:
URL:http://www.nwonaz.org/event/int-world-day-of-prayer-for-persecuted-church/
CATEGORIES:Church Calendar
END:VEVENT
BEGIN:VEVENT
DTSTART;VALUE=DATE:20211003
DTEND;VALUE=DATE:20211004
DTSTAMP:20260421T052707
CREATED:20210916T165529Z
LAST-MODIFIED:20210916T165632Z
UID:241450-1633219200-1633305599@www.nwonaz.org
SUMMARY:World Communion Sunday
DESCRIPTION:
URL:http://www.nwonaz.org/event/world-communion-sunday/
CATEGORIES:Church Calendar,NMI
END:VEVENT
BEGIN:VEVENT
DTSTART;VALUE=DATE:20210523
DTEND;VALUE=DATE:20210524
DTSTAMP:20260421T052707
CREATED:20210426T210814Z
LAST-MODIFIED:20210426T211435Z
UID:240936-1621728000-1621814399@www.nwonaz.org
SUMMARY:Pentecost
DESCRIPTION:
URL:http://www.nwonaz.org/event/pentecost/
CATEGORIES:Church Calendar
END:VEVENT
BEGIN:VEVENT
DTSTART;VALUE=DATE:20210404
DTEND;VALUE=DATE:20210405
DTSTAMP:20260421T052707
CREATED:20210408T184822Z
LAST-MODIFIED:20210408T184839Z
UID:240477-1617494400-1617580799@www.nwonaz.org
SUMMARY:Easter
DESCRIPTION:
URL:http://www.nwonaz.org/event/easter/
CATEGORIES:Church Calendar,holidays
END:VEVENT
END:VCALENDAR