BEGIN:VCALENDAR
VERSION:2.0
PRODID:-//NW Ohio District Nazarene - ECPv6.2.2.1//NONSGML v1.0//EN
CALSCALE:GREGORIAN
METHOD:PUBLISH
X-WR-CALNAME:NW Ohio District Nazarene
X-ORIGINAL-URL:https://www.nwonaz.org
X-WR-CALDESC:Events for NW Ohio District Nazarene
REFRESH-INTERVAL;VALUE=DURATION:PT1H
X-Robots-Tag:noindex
X-PUBLISHED-TTL:PT1H
BEGIN:VTIMEZONE
TZID:America/New_York
BEGIN:DAYLIGHT
TZOFFSETFROM:-0500
TZOFFSETTO:-0400
TZNAME:EDT
DTSTART:20220313T070000
END:DAYLIGHT
BEGIN:STANDARD
TZOFFSETFROM:-0400
TZOFFSETTO:-0500
TZNAME:EST
DTSTART:20221106T060000
END:STANDARD
END:VTIMEZONE
BEGIN:VEVENT
DTSTART;VALUE=DATE:20221104
DTEND;VALUE=DATE:20221107
DTSTAMP:20260424T182744
CREATED:20220325T180829Z
LAST-MODIFIED:20221021T175751Z
UID:241694-1667520000-1667779199@www.nwonaz.org
SUMMARY:NWO NYI Fall Retreat
DESCRIPTION:
URL:https://www.nwonaz.org/event/nwo-nyi-fall-retreat/
LOCATION:Cross Oak Camp & Retreat Center\, 272 Jack Oak Point Rd\, Saint Marys\, OH\, 45885
CATEGORIES:Featured Events,NYI,Retreats
ATTACH;FMTTYPE=image/jpeg:https://www.nwonaz.org/wp-content/uploads/2022/03/2022-Stand-Out-scaled.jpg
END:VEVENT
BEGIN:VEVENT
DTSTART;VALUE=DATE:20221112
DTEND;VALUE=DATE:20221113
DTSTAMP:20260424T182744
CREATED:20220615T213811Z
LAST-MODIFIED:20221021T171031Z
UID:241879-1668211200-1668297599@www.nwonaz.org
SUMMARY:Children's Quizzing Practice Meet
DESCRIPTION:
URL:https://www.nwonaz.org/event/childrens-quizzing-practice-meet/
LOCATION:London\, 224 Elm St.\, London\, OH\, 43140
CATEGORIES:Featured Events,Kids Min,Kids' Quizzing
ATTACH;FMTTYPE=image/jpeg:https://www.nwonaz.org/wp-content/uploads/2022/06/Practice-Quiz-2.jpg
END:VEVENT
BEGIN:VEVENT
DTSTART;VALUE=DATE:20221118
DTEND;VALUE=DATE:20221120
DTSTAMP:20260424T182744
CREATED:20221021T163857Z
LAST-MODIFIED:20221021T170719Z
UID:242051-1668729600-1668902399@www.nwonaz.org
SUMMARY:NYI Tri-State Quiz Tournament
DESCRIPTION:
URL:https://www.nwonaz.org/event/nyi-tri-state-quiz/
LOCATION:Mount Vernon Nazarene University\, 800 Martinsburg Rd.\, Mount Vernon\, OH\, 43050
CATEGORIES:Featured Events,NYI,Teens Quizzing
ATTACH;FMTTYPE=image/jpeg:https://www.nwonaz.org/wp-content/uploads/2022/10/NYI-Quizzing-Logo.jpg
END:VEVENT
END:VCALENDAR