BEGIN:VCALENDAR
VERSION:2.0
PRODID:-//NW Ohio District Nazarene - ECPv6.2.2.1//NONSGML v1.0//EN
CALSCALE:GREGORIAN
METHOD:PUBLISH
X-WR-CALNAME:NW Ohio District Nazarene
X-ORIGINAL-URL:https://www.nwonaz.org
X-WR-CALDESC:Events for NW Ohio District Nazarene
REFRESH-INTERVAL;VALUE=DURATION:PT1H
X-Robots-Tag:noindex
X-PUBLISHED-TTL:PT1H
BEGIN:VTIMEZONE
TZID:America/New_York
BEGIN:DAYLIGHT
TZOFFSETFROM:-0500
TZOFFSETTO:-0400
TZNAME:EDT
DTSTART:20230312T070000
END:DAYLIGHT
BEGIN:STANDARD
TZOFFSETFROM:-0400
TZOFFSETTO:-0500
TZNAME:EST
DTSTART:20231105T060000
END:STANDARD
END:VTIMEZONE
BEGIN:VEVENT
DTSTART;VALUE=DATE:20230609
DTEND;VALUE=DATE:20230617
DTSTAMP:20260424T081257
CREATED:20221021T173847Z
LAST-MODIFIED:20230524T175224Z
UID:242120-1686268800-1686959999@www.nwonaz.org
SUMMARY:General Assembly
DESCRIPTION:
URL:https://ga2023.nazarene.org/#new_tab
LOCATION:OH
CATEGORIES:Church Calendar,Featured Events,Meetings & Training
ATTACH;FMTTYPE=image/jpeg:https://www.nwonaz.org/wp-content/uploads/2022/10/maxresdefault.jpg
END:VEVENT
BEGIN:VEVENT
DTSTART;VALUE=DATE:20230610
DTEND;VALUE=DATE:20230611
DTSTAMP:20260424T081257
CREATED:20220615T214028Z
LAST-MODIFIED:20221021T171003Z
UID:241885-1686355200-1686441599@www.nwonaz.org
SUMMARY:Children's Quizzing World Meet
DESCRIPTION:
URL:https://www.nwonaz.org/event/childrens-quizzing-district-meet/
LOCATION:OH
CATEGORIES:Featured Events,Kids Min,Kids' Quizzing
ATTACH;FMTTYPE=image/jpeg:https://www.nwonaz.org/wp-content/uploads/2022/06/World-Quiz.jpg
END:VEVENT
BEGIN:VEVENT
DTSTART;VALUE=DATE:20230618
DTEND;VALUE=DATE:20230624
DTSTAMP:20260424T081257
CREATED:20220916T170925Z
LAST-MODIFIED:20230524T174956Z
UID:242009-1687046400-1687564799@www.nwonaz.org
SUMMARY:The Gathering
DESCRIPTION:
URL:http://www.nwonaz.org/the-gathering/
LOCATION:Cross Oak Camp & Retreat Center\, 272 Jack Oak Point Rd\, Saint Marys\, OH\, 45885
CATEGORIES:Church Calendar,Featured Events,NMI,NYI,The Gathering
ATTACH;FMTTYPE=image/jpeg:https://www.nwonaz.org/wp-content/uploads/2022/09/Gathering-Slide-scaled.jpg
END:VEVENT
BEGIN:VEVENT
DTSTART;TZID=America/New_York:20230621T170000
DTEND;TZID=America/New_York:20230621T183000
DTSTAMP:20260424T081257
CREATED:20230514T194414Z
LAST-MODIFIED:20230514T205110Z
UID:242484-1687366800-1687372200@www.nwonaz.org
SUMMARY:District NYI Convention
DESCRIPTION:
URL:https://www.nwonaz.org/event/nyi-convention-2/
LOCATION:Cross Oak Camp & Retreat Center\, 272 Jack Oak Point Rd\, Saint Marys\, OH\, 45885
CATEGORIES:Featured Events,Meetings & Training,NYI,The Gathering
ATTACH;FMTTYPE=image/jpeg:https://www.nwonaz.org/wp-content/uploads/2023/05/Northwest-Ohio-Nazarene-District.jpg
END:VEVENT
BEGIN:VEVENT
DTSTART;TZID=America/New_York:20230621T190000
DTEND;TZID=America/New_York:20230621T200000
DTSTAMP:20260424T081257
CREATED:20230510T142511Z
LAST-MODIFIED:20230514T205052Z
UID:242448-1687374000-1687377600@www.nwonaz.org
SUMMARY:NYC Send-Off Service
DESCRIPTION:
URL:https://www.nwonaz.org/event/nyc-send-off-service/
LOCATION:Cross Oak Camp & Retreat Center\, 272 Jack Oak Point Rd\, Saint Marys\, OH\, 45885
CATEGORIES:Featured Events,NYI,The Gathering
ATTACH;FMTTYPE=image/jpeg:https://www.nwonaz.org/wp-content/uploads/2023/05/SEND-OFF-CELEBRATION-SERVICE-JUNE-21-@-7PM-NWO-CAMPGROUNDS.jpg
END:VEVENT
BEGIN:VEVENT
DTSTART;VALUE=DATE:20230623
DTEND;VALUE=DATE:20230624
DTSTAMP:20260424T081257
CREATED:20221021T174143Z
LAST-MODIFIED:20230524T175109Z
UID:242130-1687478400-1687564799@www.nwonaz.org
SUMMARY:District NMI Convention
DESCRIPTION:
URL:https://www.nwonaz.org/event/district-nmi-convention/
LOCATION:OH
CATEGORIES:Church Calendar,Featured Events,NMI,The Gathering
ATTACH;FMTTYPE=image/jpeg:https://www.nwonaz.org/wp-content/uploads/2022/09/Gathering-Slide-scaled.jpg
END:VEVENT
END:VCALENDAR