BEGIN:VCALENDAR
VERSION:2.0
PRODID:-//NW Ohio District Nazarene - ECPv6.2.2.1//NONSGML v1.0//EN
CALSCALE:GREGORIAN
METHOD:PUBLISH
X-WR-CALNAME:NW Ohio District Nazarene
X-ORIGINAL-URL:https://www.nwonaz.org
X-WR-CALDESC:Events for NW Ohio District Nazarene
REFRESH-INTERVAL;VALUE=DURATION:PT1H
X-Robots-Tag:noindex
X-PUBLISHED-TTL:PT1H
BEGIN:VTIMEZONE
TZID:America/New_York
BEGIN:DAYLIGHT
TZOFFSETFROM:-0500
TZOFFSETTO:-0400
TZNAME:EDT
DTSTART:20240310T070000
END:DAYLIGHT
BEGIN:STANDARD
TZOFFSETFROM:-0400
TZOFFSETTO:-0500
TZNAME:EST
DTSTART:20241103T060000
END:STANDARD
END:VTIMEZONE
BEGIN:VEVENT
DTSTART;TZID=America/New_York:20240220T100000
DTEND;TZID=America/New_York:20240220T150000
DTSTAMP:20260423T170132
CREATED:20231027T212723Z
LAST-MODIFIED:20231221T215638Z
UID:243379-1708423200-1708441200@www.nwonaz.org
SUMMARY:Big Day
DESCRIPTION:Big Days are designed to Inspire and Equip each of us to lead our churches and change the world. \n \nBig Day is an equipping and connecting time for all licensed and ordained pastors. We strongly encourage you to bring your locally licensed pastors or those you are raising up – really anyone sending a call to ministry. Everything we do will include equipping and developing new leaders. These are all-hands-on-deck events.\n\n\nOur focus for this Big Day will be on developing Leaders so we can multiply our effectiveness as churches and finish the work of making disciples.We’ll also share more details about District Advance 2024\, share some very practical tools\, resources\, and a proven process for building an effective website\, and a pathway for developing effective preachers. \nPlease confirm your team’s attendance by this Thursday\, January 15 so our team here can prepare for you. Send your confirmations to Kellie @ kellie.anderson@nwoteam.church.
URL:https://www.nwonaz.org/event/big-day-6/
LOCATION:Fairbanks Center (Gym)\, St. Marys\, OH
CATEGORIES:Featured Events
ATTACH;FMTTYPE=image/jpeg:https://www.nwonaz.org/wp-content/uploads/2023/10/Big-Day-1.jpeg
END:VEVENT
END:VCALENDAR