BEGIN:VCALENDAR
VERSION:2.0
PRODID:-//NW Ohio District Nazarene - ECPv6.2.2.1//NONSGML v1.0//EN
CALSCALE:GREGORIAN
METHOD:PUBLISH
X-WR-CALNAME:NW Ohio District Nazarene
X-ORIGINAL-URL:https://www.nwonaz.org
X-WR-CALDESC:Events for NW Ohio District Nazarene
REFRESH-INTERVAL;VALUE=DURATION:PT1H
X-Robots-Tag:noindex
X-PUBLISHED-TTL:PT1H
BEGIN:VTIMEZONE
TZID:America/New_York
BEGIN:DAYLIGHT
TZOFFSETFROM:-0500
TZOFFSETTO:-0400
TZNAME:EDT
DTSTART:20230312T070000
END:DAYLIGHT
BEGIN:STANDARD
TZOFFSETFROM:-0400
TZOFFSETTO:-0500
TZNAME:EST
DTSTART:20231105T060000
END:STANDARD
END:VTIMEZONE
BEGIN:VEVENT
DTSTART;VALUE=DATE:20230922
DTEND;VALUE=DATE:20230925
DTSTAMP:20260424T052922
CREATED:20221021T175150Z
LAST-MODIFIED:20230724T142000Z
UID:242157-1695340800-1695599999@www.nwonaz.org
SUMMARY:Ministry Discovery & Assessment Conference
DESCRIPTION:The Ministry Discovery & Assessment Conference (MDAC) is a weekend for district-licensed ministers to help discover your gifts and provide peer learning and encouragement as well as leadership development\, all the while helping you gain a better understanding of your leadership style and self-awareness of areas needed for growth and greater effectiveness. \nMDAC is a required step in the journey toward ordination. \nThere is a significant amount of preparation for the event. Both the candidate and spouse (if married) must participate in the entire weekend event. An application for both the candidate and the spouse must be filled out ahead of the event\, plus three separate assessments for both the candidate and the spouse. The applications as well as the assessments must be completed ahead of time\, with a deadline of Monday\, August 22. \nThe weekend begins at approximately 1:30 p.m. on Friday and will go through Sunday at approximately noon. \nEmail Chip Bullock at ChipBullock@limacc.com to register.
URL:https://www.nwonaz.org/event/ministry-development-assessment/
LOCATION:OH
CATEGORIES:Featured Events,Meetings & Training
ATTACH;FMTTYPE=image/jpeg:https://www.nwonaz.org/wp-content/uploads/2023/07/MDAC-Event.jpg
END:VEVENT
END:VCALENDAR