BEGIN:VCALENDAR
VERSION:2.0
PRODID:-//NW Ohio District Nazarene - ECPv6.2.2.1//NONSGML v1.0//EN
CALSCALE:GREGORIAN
METHOD:PUBLISH
X-ORIGINAL-URL:https://www.nwonaz.org
X-WR-CALDESC:Events for NW Ohio District Nazarene
REFRESH-INTERVAL;VALUE=DURATION:PT1H
X-Robots-Tag:noindex
X-PUBLISHED-TTL:PT1H
BEGIN:VTIMEZONE
TZID:America/New_York
BEGIN:DAYLIGHT
TZOFFSETFROM:-0500
TZOFFSETTO:-0400
TZNAME:EDT
DTSTART:20230312T070000
END:DAYLIGHT
BEGIN:STANDARD
TZOFFSETFROM:-0400
TZOFFSETTO:-0500
TZNAME:EST
DTSTART:20231105T060000
END:STANDARD
END:VTIMEZONE
BEGIN:VEVENT
DTSTART;TZID=America/New_York:20231024T100000
DTEND;TZID=America/New_York:20231024T150000
DTSTAMP:20260424T035850
CREATED:20231009T191103Z
LAST-MODIFIED:20231030T195826Z
UID:243114-1698141600-1698159600@www.nwonaz.org
SUMMARY:Big Day
DESCRIPTION:Big Day for pastors on NWO is Tuesday\, October 24 from 10:00 am – 3:00 pm in Fairbanks Gym\, at Cross Oak Camp. Bi-Vocational Big Day\, is Saturday\, October 28\, 10:00 am – 1:00 pm in the Great Room of the Big Dorm. \nLunch and refreshments included. \nPlease confirm your team’s attendance…send your confirmations to Kathy @ kphillips@nwonaz.org. \nBig Days are equipping and connecting times for all licensed and ordained pastors. These are all-hands-on-deck events. We strongly encourage you to bring along your locally licensed pastors or those you are raising up. Everything we do will include equipping and developing new leaders. \nOur focus for this Big Day will be on Developing a Discipleship Path in your church that results in disciples who make disciples. \n 
URL:https://www.nwonaz.org/event/big-day-5/
LOCATION:Fairbanks Center (Gym)\, St. Marys\, OH
CATEGORIES:Featured Events,NYI,Retreats
ATTACH;FMTTYPE=image/jpeg:https://www.nwonaz.org/wp-content/uploads/2023/10/Big-Day.jpeg
END:VEVENT
END:VCALENDAR