BEGIN:VCALENDAR
VERSION:2.0
PRODID:-//NW Ohio District Nazarene - ECPv6.2.2.1//NONSGML v1.0//EN
CALSCALE:GREGORIAN
METHOD:PUBLISH
X-WR-CALNAME:NW Ohio District Nazarene
X-ORIGINAL-URL:https://www.nwonaz.org
X-WR-CALDESC:Events for NW Ohio District Nazarene
REFRESH-INTERVAL;VALUE=DURATION:PT1H
X-Robots-Tag:noindex
X-PUBLISHED-TTL:PT1H
BEGIN:VTIMEZONE
TZID:America/New_York
BEGIN:DAYLIGHT
TZOFFSETFROM:-0500
TZOFFSETTO:-0400
TZNAME:EDT
DTSTART:20230312T070000
END:DAYLIGHT
BEGIN:STANDARD
TZOFFSETFROM:-0400
TZOFFSETTO:-0500
TZNAME:EST
DTSTART:20231105T060000
END:STANDARD
END:VTIMEZONE
BEGIN:VEVENT
DTSTART;VALUE=DATE:20231113
DTEND;VALUE=DATE:20231116
DTSTAMP:20260423T223756
CREATED:20230709T205805Z
LAST-MODIFIED:20231023T145150Z
UID:242635-1699833600-1700092799@www.nwonaz.org
SUMMARY:Exponential Conference Central
DESCRIPTION:Join us and take your team to the Exponential Conference in Naperville\, IL on us! We have purchased 25 tickets (value of $99 per ticket) for pastors and church leaders in our district to get immersed in what it means to become a multiplying church that makes disciples and sends out teams to start new works. Our goal is that every district pastor and their teams attend at least one of these catalyzing events over the next 3 years. We’ll coordinate a couple of large shuttle buses for transportation so the only cost for your team are hotel accommodations. \nWatch the sneak peak video HERE to see what it’s all about. \nTo register click this link: Register Now \nQuestions? Contact Mark Coulter @ mark.coulter@nwoteam.church or Andy Monnin @ andy.monnin@nwoteam.church
URL:https://www.nwonaz.org/event/242635/
LOCATION:Community Christian Church\, 1635 Emerson Ln.\, Naperville\, IL
CATEGORIES:Featured Events,Meetings & Training
ATTACH;FMTTYPE=image/jpeg:https://www.nwonaz.org/wp-content/uploads/2023/07/2023-Exponential-Central.jpg
END:VEVENT
END:VCALENDAR