BEGIN:VCALENDAR
VERSION:2.0
PRODID:-//NW Ohio District Nazarene - ECPv6.2.2.1//NONSGML v1.0//EN
CALSCALE:GREGORIAN
METHOD:PUBLISH
X-WR-CALNAME:NW Ohio District Nazarene
X-ORIGINAL-URL:https://www.nwonaz.org
X-WR-CALDESC:Events for NW Ohio District Nazarene
REFRESH-INTERVAL;VALUE=DURATION:PT1H
X-Robots-Tag:noindex
X-PUBLISHED-TTL:PT1H
BEGIN:VTIMEZONE
TZID:America/New_York
BEGIN:DAYLIGHT
TZOFFSETFROM:-0500
TZOFFSETTO:-0400
TZNAME:EDT
DTSTART:20240310T070000
END:DAYLIGHT
BEGIN:STANDARD
TZOFFSETFROM:-0400
TZOFFSETTO:-0500
TZNAME:EST
DTSTART:20241103T060000
END:STANDARD
END:VTIMEZONE
BEGIN:VEVENT
DTSTART;TZID=America/New_York:20240913T180000
DTEND;TZID=America/New_York:20240914T090000
DTSTAMP:20260421T061856
CREATED:20240506T153745Z
LAST-MODIFIED:20240816T204429Z
UID:244462-1726250400-1726304400@www.nwonaz.org
SUMMARY:Mark Gungor: Laugh Your Way to a Better Marriage
DESCRIPTION:September 13 – 14: Friday 6pm-9pm and Saturday 9am-12pm\nAt Cross Oak Camp & Retreat Center\, 3700 N Clendenen Cir\, St Marys\, OH \nJoin Mark Gungor for his 2 part LIVE Couples’ Comedy Event! \nThis event will leave you in stitches as you Laugh Your Way to a Better Marriage. \nMark Gungor\, one of the most sought-after speakers on love and marriage\, explores the underlying dynamics of male/female relationships. \nHis teaching brings striking clarity and practical solutions to common relationship woes. \nMark’s humor makes his teaching so enjoyable\, effective and memorable that husbands and wives will retain these insights and immediately put them to work. \nTo Register: Mark Gungor: Laugh Your Way to a Better Marriage \nIf you’re interested in staying at the Cross Oak Camp please go to their reservation site here: Reservations at Cross Oak Camp \nLodging available Inn rooms $80/night Cabins-$100/night Must pay full when reserving. Full refund if cancelled 30 days before event.
URL:https://www.nwonaz.org/event/mark-gungor-laugh-your-way-to-a-better-marriage/
LOCATION:Cross Oak Camp & Retreat Center\, 272 Jack Oak Point Rd\, Saint Marys\, OH\, 45885
CATEGORIES:Featured Events,Marriage & Family
ATTACH;FMTTYPE=image/jpeg:https://www.nwonaz.org/wp-content/uploads/LYW-NEWPostcard-StMarysOH-front-web.jpg
END:VEVENT
END:VCALENDAR