BEGIN:VCALENDAR
VERSION:2.0
PRODID:-//NW Ohio District Nazarene - ECPv6.2.2.1//NONSGML v1.0//EN
CALSCALE:GREGORIAN
METHOD:PUBLISH
X-ORIGINAL-URL:https://www.nwonaz.org
X-WR-CALDESC:Events for NW Ohio District Nazarene
REFRESH-INTERVAL;VALUE=DURATION:PT1H
X-Robots-Tag:noindex
X-PUBLISHED-TTL:PT1H
BEGIN:VTIMEZONE
TZID:America/New_York
BEGIN:DAYLIGHT
TZOFFSETFROM:-0500
TZOFFSETTO:-0400
TZNAME:EDT
DTSTART:20220313T070000
END:DAYLIGHT
BEGIN:STANDARD
TZOFFSETFROM:-0400
TZOFFSETTO:-0500
TZNAME:EST
DTSTART:20221106T060000
END:STANDARD
END:VTIMEZONE
BEGIN:VEVENT
DTSTART;VALUE=DATE:20221001
DTEND;VALUE=DATE:20221002
DTSTAMP:20260423T014702
CREATED:20220615T213654Z
LAST-MODIFIED:20221021T171039Z
UID:241870-1664582400-1664668799@www.nwonaz.org
SUMMARY:Children's Quizzing Practice Meet
DESCRIPTION:
URL:https://www.nwonaz.org/event/practice-meet/
LOCATION:Tipp City\, 1221 W. Main St.\, Tipp City\, OH\, 45371
CATEGORIES:Kids Min,Kids' Quizzing
ATTACH;FMTTYPE=image/jpeg:https://www.nwonaz.org/wp-content/uploads/2022/06/Practice-Quiz-1.jpg
END:VEVENT
END:VCALENDAR