BEGIN:VCALENDAR
VERSION:2.0
PRODID:-//NW Ohio District Nazarene - ECPv6.2.2.1//NONSGML v1.0//EN
CALSCALE:GREGORIAN
METHOD:PUBLISH
X-ORIGINAL-URL:https://www.nwonaz.org
X-WR-CALDESC:Events for NW Ohio District Nazarene
REFRESH-INTERVAL;VALUE=DURATION:PT1H
X-Robots-Tag:noindex
X-PUBLISHED-TTL:PT1H
BEGIN:VTIMEZONE
TZID:America/New_York
BEGIN:DAYLIGHT
TZOFFSETFROM:-0500
TZOFFSETTO:-0400
TZNAME:EDT
DTSTART:20230312T070000
END:DAYLIGHT
BEGIN:STANDARD
TZOFFSETFROM:-0400
TZOFFSETTO:-0500
TZNAME:EST
DTSTART:20231105T060000
END:STANDARD
END:VTIMEZONE
BEGIN:VEVENT
DTSTART;VALUE=DATE:20230325
DTEND;VALUE=DATE:20230326
DTSTAMP:20260422T175427
CREATED:20220615T214225Z
LAST-MODIFIED:20221021T170948Z
UID:241891-1679702400-1679788799@www.nwonaz.org
SUMMARY:Children's Quizzing District Meet
DESCRIPTION:
URL:https://www.nwonaz.org/event/childrens-quizzing-district-meet-2/
LOCATION:St Marys Nazarene Church\, 390 Indiana Ave\, St Marys\, OH\, 45885
CATEGORIES:Featured Events,Kids Min,Kids' Quizzing
ATTACH;FMTTYPE=image/jpeg:https://www.nwonaz.org/wp-content/uploads/2022/06/District-Quiz.jpg
END:VEVENT
END:VCALENDAR