BEGIN:VCALENDAR
VERSION:2.0
PRODID:-//NW Ohio District Nazarene - ECPv6.2.2.1//NONSGML v1.0//EN
CALSCALE:GREGORIAN
METHOD:PUBLISH
X-ORIGINAL-URL:https://www.nwonaz.org
X-WR-CALDESC:Events for NW Ohio District Nazarene
REFRESH-INTERVAL;VALUE=DURATION:PT1H
X-Robots-Tag:noindex
X-PUBLISHED-TTL:PT1H
BEGIN:VTIMEZONE
TZID:America/New_York
BEGIN:DAYLIGHT
TZOFFSETFROM:-0500
TZOFFSETTO:-0400
TZNAME:EDT
DTSTART:20230312T070000
END:DAYLIGHT
BEGIN:STANDARD
TZOFFSETFROM:-0400
TZOFFSETTO:-0500
TZNAME:EST
DTSTART:20231105T060000
END:STANDARD
END:VTIMEZONE
BEGIN:VEVENT
DTSTART;VALUE=DATE:20231005
DTEND;VALUE=DATE:20231008
DTSTAMP:20260422T025613
CREATED:20230720T153710Z
LAST-MODIFIED:20230902T195310Z
UID:242831-1696464000-1696723199@www.nwonaz.org
SUMMARY:Spark Conference
DESCRIPTION:SPARK is a 3-day/2-night retreat for children’s volunteers\, children’s leaders\, children’s pastors\, and lead pastors\, and SPARK is coming to Northwestern Ohio on October Oct 5 – 7\, 2023. The event is led by keynote Beth Bidle Rush\, who is passionate about equipping\, encouraging\, and connecting with children’s leaders all over the United States. \nThe conference/retreat will feature learning sessions throughout the weekend led by Beth as well as some of NWO’s best Next Gen Leaders. You’ll develop as a leader\, learn new ideas that will catalyze your own church’s ministry\, connect and learn with other children’s leaders\, and go back ready to take your children’s ministry to a new level. \nThis is a great conference to invest in and create a focused time to strategize with 3-4 or more of your key leaders or build into developing leaders. The weekend is meant to be a catalyzing time to Spark dreams and plans in you for the church you serve in.  You’ll have time at the retreat to talk about what you’d like to do when you get back and your next steps. It could be a game-changer for next-gen ministry in your church. \nHere are a few of the breakout sessions you’ll get to choose from: \nJanae Elling\, Napoleon | Partnering with Community Churches\n          How to unite and become stronger in the community for families   \nAndy Monnin | Building a Leadership Pipeline for your Children’s Ministry \nKari Taylor | Cornerstone of Hope/Lima Community\, Helping students and families struggling with anxiety\, depression\, and other mental health issues. \nPaula Monnin\, The Valley Piqua | How to Make One Hour Really Matter \nBeth Bidle Rush\, Spark | Leading into the Future \nMara Castle\, Marysville | Creating a Culture of Servant Leadership with Kids \nFor complete details\, visit SPARK at NWO or contact Britni Dooley.
URL:https://www.nwonaz.org/event/spark-conference-2/
LOCATION:Cross Oak Camp & Retreat Center\, 272 Jack Oak Point Rd\, Saint Marys\, OH\, 45885
CATEGORIES:Discipleship,Featured Events,Kids Min,Meetings & Training,Springboard Events
ATTACH;FMTTYPE=image/jpeg:https://www.nwonaz.org/wp-content/uploads/2022/03/Spark_event.jpg
END:VEVENT
END:VCALENDAR