BEGIN:VCALENDAR
VERSION:2.0
PRODID:-//NW Ohio District Nazarene - ECPv6.2.2.1//NONSGML v1.0//EN
CALSCALE:GREGORIAN
METHOD:PUBLISH
X-WR-CALNAME:NW Ohio District Nazarene
X-ORIGINAL-URL:https://www.nwonaz.org
X-WR-CALDESC:Events for NW Ohio District Nazarene
REFRESH-INTERVAL;VALUE=DURATION:PT1H
X-Robots-Tag:noindex
X-PUBLISHED-TTL:PT1H
BEGIN:VTIMEZONE
TZID:America/New_York
BEGIN:DAYLIGHT
TZOFFSETFROM:-0500
TZOFFSETTO:-0400
TZNAME:EDT
DTSTART:20240310T070000
END:DAYLIGHT
BEGIN:STANDARD
TZOFFSETFROM:-0400
TZOFFSETTO:-0500
TZNAME:EST
DTSTART:20241103T060000
END:STANDARD
END:VTIMEZONE
BEGIN:VEVENT
DTSTART;VALUE=DATE:20240710
DTEND;VALUE=DATE:20240715
DTSTAMP:20260421T121408
CREATED:20240502T131344Z
LAST-MODIFIED:20240506T155251Z
UID:244455-1720569600-1721001599@www.nwonaz.org
SUMMARY:NWO District Teen Camp | Adscendo | Cross Oak Retreat Center
DESCRIPTION:NWO District Teen Camp | Adscendo | Cross Oak Retreat Center \nJuly 10-14\, 2024 \nGrades 6-12 \nCOST \nEarly registration ($215) May 1st – May 20th \nRegular registration ($225) May 21 – June 9th \nLate registration ($265) June 10th – June 16th \nTHE EVENT \nDynamic speakers\, meaningful worship\, intentional breakout sessions\, team games & activities\, special late-night activities\, and more! \nREGISTRATION \nTo Register go to Teen Camp 2024 Registration \nFOR MORE INFO \nKeep an eye out for more info and future promos on Facebook at Northwestern Ohio NYI  \nor check out nwonyievents.org \nThis year camp is bigger and better than ever before! You won’t want to miss it! \nYouth Pastors and Leaders:  \nPromo Pack Downloads
URL:https://www.nwonaz.org/event/nwo-district-teen-camp-adscendo-cross-oak-retreat-center/
LOCATION:Cross Oak Camp & Retreat Center\, 272 Jack Oak Point Rd\, Saint Marys\, OH\, 45885
CATEGORIES:Camp,Discipleship,Featured Events,Kids Min
ATTACH;FMTTYPE=image/png:https://www.nwonaz.org/wp-content/uploads/2024/05/adscendo.png
END:VEVENT
END:VCALENDAR